BEGIN:VCALENDAR
VERSION:2.0
PRODID:-//Cyber Security Austria - ECPv6.15.17.1//NONSGML v1.0//EN
CALSCALE:GREGORIAN
METHOD:PUBLISH
X-ORIGINAL-URL:https://verbotengut.at
X-WR-CALDESC:Veranstaltungen für Cyber Security Austria
REFRESH-INTERVAL;VALUE=DURATION:PT1H
X-Robots-Tag:noindex
X-PUBLISHED-TTL:PT1H
BEGIN:VTIMEZONE
TZID:Europe/Berlin
BEGIN:DAYLIGHT
TZOFFSETFROM:+0100
TZOFFSETTO:+0200
TZNAME:CEST
DTSTART:20220327T010000
END:DAYLIGHT
BEGIN:STANDARD
TZOFFSETFROM:+0200
TZOFFSETTO:+0100
TZNAME:CET
DTSTART:20221030T010000
END:STANDARD
BEGIN:DAYLIGHT
TZOFFSETFROM:+0100
TZOFFSETTO:+0200
TZNAME:CEST
DTSTART:20230326T010000
END:DAYLIGHT
BEGIN:STANDARD
TZOFFSETFROM:+0200
TZOFFSETTO:+0100
TZNAME:CET
DTSTART:20231029T010000
END:STANDARD
BEGIN:DAYLIGHT
TZOFFSETFROM:+0100
TZOFFSETTO:+0200
TZNAME:CEST
DTSTART:20240331T010000
END:DAYLIGHT
BEGIN:STANDARD
TZOFFSETFROM:+0200
TZOFFSETTO:+0100
TZNAME:CET
DTSTART:20241027T010000
END:STANDARD
END:VTIMEZONE
BEGIN:VEVENT
DTSTART;TZID=Europe/Berlin:20231207T170000
DTEND;TZID=Europe/Berlin:20231207T190000
DTSTAMP:20260423T121901
CREATED:20231206T220115Z
LAST-MODIFIED:20231206T220751Z
UID:2006-1701968400-1701975600@verbotengut.at
SUMMARY:Hackerinnen Training - Introduction
DESCRIPTION:(Dein erstes Mal beim Hackerinnen Training? Dann registriere dich bitte unter https://forms.gle/1HZB3H33x5aLC3oX8) \nKommenden Donnerstag ist es soweit und wir starten das erste Hackerinnen Team für die kommende Austria Cyber Security Challenge. Am 7. Dezember stellen wir euch die geplanten Trainings und Team Treffen vor\, außerdem erzählen uns Spielerinnen vom Österreichischen- und Europäischen Team über ihre Anfänge und Werdegang in der Cyber Security. \nAgenda \n\nWillkommen\nACSC Austrian Cyber Security Challenge\nVon Level 1 bis ins Finale\nHow to start hacking\nMy first CTF and European Cyber Sec Challenge\n\nSpielerinnen von Team Austria und Team Europe\n\n\nTrainingsplan 2024\n\nTrainings\nTeam Treffen\nRessourcen\n\n\nAusklang\n\nFalls ihr vorab Fragen habt\, teilt sie gerne mit uns:\nhttps://app.sli.do/event/hBs1c7utqdNqyZVA1GHAvq
URL:https://verbotengut.at/event/hackerinnen2023introduction/
LOCATION:SBA Research\, Floragasse 7\, Wien\, 1070
CATEGORIES:Hackerinnen Training
END:VEVENT
END:VCALENDAR