BEGIN:VCALENDAR
VERSION:2.0
PRODID:-//Cyber Security Austria - ECPv6.15.17.1//NONSGML v1.0//EN
CALSCALE:GREGORIAN
METHOD:PUBLISH
X-ORIGINAL-URL:https://verbotengut.at
X-WR-CALDESC:Veranstaltungen für Cyber Security Austria
REFRESH-INTERVAL;VALUE=DURATION:PT1H
X-Robots-Tag:noindex
X-PUBLISHED-TTL:PT1H
BEGIN:VTIMEZONE
TZID:Europe/Vienna
BEGIN:DAYLIGHT
TZOFFSETFROM:+0100
TZOFFSETTO:+0200
TZNAME:CEST
DTSTART:20220327T010000
END:DAYLIGHT
BEGIN:STANDARD
TZOFFSETFROM:+0200
TZOFFSETTO:+0100
TZNAME:CET
DTSTART:20221030T010000
END:STANDARD
BEGIN:DAYLIGHT
TZOFFSETFROM:+0100
TZOFFSETTO:+0200
TZNAME:CEST
DTSTART:20230326T010000
END:DAYLIGHT
BEGIN:STANDARD
TZOFFSETFROM:+0200
TZOFFSETTO:+0100
TZNAME:CET
DTSTART:20231029T010000
END:STANDARD
BEGIN:DAYLIGHT
TZOFFSETFROM:+0100
TZOFFSETTO:+0200
TZNAME:CEST
DTSTART:20240331T010000
END:DAYLIGHT
BEGIN:STANDARD
TZOFFSETFROM:+0200
TZOFFSETTO:+0100
TZNAME:CET
DTSTART:20241027T010000
END:STANDARD
END:VTIMEZONE
BEGIN:VEVENT
DTSTART;TZID=Europe/Vienna:20231214T170000
DTEND;TZID=Europe/Vienna:20231214T200000
DTSTAMP:20260423T122009
CREATED:20231211T141205Z
LAST-MODIFIED:20231211T141759Z
UID:2021-1702573200-1702584000@verbotengut.at
SUMMARY:Hackerinnen Training - Web Security Basics # ENGLISH
DESCRIPTION:(Dein erstes Mal beim Hackerinnen Training? Dann registriere dich bitte unter https://forms.gle/1HZB3H33x5aLC3oX8) \nOn the 14th of December we will hold the training for Websecurity Basics. You will get a look into the cursed web with the following topics: \nAgenda \n\nAnatomy of Web infrastructures\nThreat Modeling\nServer-Side Security (Command injection\, SQLi)\nClient-Side Security (XSS\, CSRF\, Session Fixation)\n\nTrainer: Marco Squarcina\, TU Wien & ECSC Team Austria Coach\nPrerequisites: none\nLanguage: English (German support available for questions)\nPlease bring: Laptop optional\nFood will be provided \n  \nIf you want to join please make sure you are registered for the Hackerinnen Trainings at https://forms.gle/1HZB3H33x5aLC3oX8.
URL:https://verbotengut.at/event/hackerinnen-training-web-security-basics-english/
LOCATION:SBA Research\, Floragasse 7\, Wien\, 1070
CATEGORIES:Hackerinnen Training
END:VEVENT
END:VCALENDAR