BEGIN:VCALENDAR
VERSION:2.0
PRODID:-//Cyber Security Austria - ECPv6.15.17.1//NONSGML v1.0//EN
CALSCALE:GREGORIAN
METHOD:PUBLISH
X-ORIGINAL-URL:https://verbotengut.at
X-WR-CALDESC:Veranstaltungen für Cyber Security Austria
REFRESH-INTERVAL;VALUE=DURATION:PT1H
X-Robots-Tag:noindex
X-PUBLISHED-TTL:PT1H
BEGIN:VTIMEZONE
TZID:Europe/Berlin
BEGIN:DAYLIGHT
TZOFFSETFROM:+0100
TZOFFSETTO:+0200
TZNAME:CEST
DTSTART:20230326T010000
END:DAYLIGHT
BEGIN:STANDARD
TZOFFSETFROM:+0200
TZOFFSETTO:+0100
TZNAME:CET
DTSTART:20231029T010000
END:STANDARD
BEGIN:DAYLIGHT
TZOFFSETFROM:+0100
TZOFFSETTO:+0200
TZNAME:CEST
DTSTART:20240331T010000
END:DAYLIGHT
BEGIN:STANDARD
TZOFFSETFROM:+0200
TZOFFSETTO:+0100
TZNAME:CET
DTSTART:20241027T010000
END:STANDARD
BEGIN:DAYLIGHT
TZOFFSETFROM:+0100
TZOFFSETTO:+0200
TZNAME:CEST
DTSTART:20250330T010000
END:DAYLIGHT
BEGIN:STANDARD
TZOFFSETFROM:+0200
TZOFFSETTO:+0100
TZNAME:CET
DTSTART:20251026T010000
END:STANDARD
END:VTIMEZONE
BEGIN:VEVENT
DTSTART;TZID=Europe/Berlin:20240617T180000
DTEND;TZID=Europe/Berlin:20240617T210000
DTSTAMP:20260423T034910
CREATED:20240612T081030Z
LAST-MODIFIED:20240612T081410Z
UID:2396-1718647200-1718658000@verbotengut.at
SUMMARY:Hackerinnen Training – Let's Hack Together - 2024 Jun
DESCRIPTION:Wolltest du immer schon einmal Security-Challenges lösen\, oder bei einem CTF mitmachen? Dann mach den ersten Schritt und schau bei unserem ersten „Let’s Hack Together“ vorbei! \nWir werden gemeinsam (bzw in Kleingruppen) ausgewählte Challenges lösen und besprechen. \nInhalte \n\nHerangehensweise an CTF Challenges\nGemeinsames Lösen von ausgewählten Challenges\nTools\, Tips & Tricks\n\nTrainerInnen: Manuel Reinsperger (CyberSecurityAustria)\, Marco Squarcina (TU Wien)\, Sarah Nöbauer\nSprache: Deutsch & Englisch (je nach Bedarf)\nLokation: SBA Research (ACHTUNG\, nur vor Ort!)\nMitzubringen: Laptop\nAnmeldung: https://forms.gle/HfZtmCwR1b4tu9M67\nInfos: https://www.linkedin.com/events/let-shacktogether-training7204808184501268482/comments/\nDiscord Community: https://discord.gg/bwx6N8jKSS
URL:https://verbotengut.at/event/hackerinnen-training-lets-hack-together-2024-jun/
LOCATION:SBA Research\, Floragasse 7\, Wien\, 1070
CATEGORIES:Hackerinnen Training
END:VEVENT
END:VCALENDAR