BEGIN:VCALENDAR
VERSION:2.0
PRODID:-//Cyber Security Austria - ECPv6.15.17.1//NONSGML v1.0//EN
CALSCALE:GREGORIAN
METHOD:PUBLISH
X-ORIGINAL-URL:https://verbotengut.at
X-WR-CALDESC:Veranstaltungen für Cyber Security Austria
REFRESH-INTERVAL;VALUE=DURATION:PT1H
X-Robots-Tag:noindex
X-PUBLISHED-TTL:PT1H
BEGIN:VTIMEZONE
TZID:Europe/Berlin
BEGIN:DAYLIGHT
TZOFFSETFROM:+0100
TZOFFSETTO:+0200
TZNAME:CEST
DTSTART:20230326T010000
END:DAYLIGHT
BEGIN:STANDARD
TZOFFSETFROM:+0200
TZOFFSETTO:+0100
TZNAME:CET
DTSTART:20231029T010000
END:STANDARD
BEGIN:DAYLIGHT
TZOFFSETFROM:+0100
TZOFFSETTO:+0200
TZNAME:CEST
DTSTART:20240331T010000
END:DAYLIGHT
BEGIN:STANDARD
TZOFFSETFROM:+0200
TZOFFSETTO:+0100
TZNAME:CET
DTSTART:20241027T010000
END:STANDARD
BEGIN:DAYLIGHT
TZOFFSETFROM:+0100
TZOFFSETTO:+0200
TZNAME:CEST
DTSTART:20250330T010000
END:DAYLIGHT
BEGIN:STANDARD
TZOFFSETFROM:+0200
TZOFFSETTO:+0100
TZNAME:CET
DTSTART:20251026T010000
END:STANDARD
END:VTIMEZONE
BEGIN:VEVENT
DTSTART;TZID=Europe/Berlin:20240910T180000
DTEND;TZID=Europe/Berlin:20240910T210000
DTSTAMP:20260422T234745
CREATED:20240819T132507Z
LAST-MODIFIED:20240822T130429Z
UID:2449-1725991200-1726002000@verbotengut.at
SUMMARY:Hackerinnen Training – Forensic Basics  # DEUTSCH - BEREITS VOLL
DESCRIPTION:Das Training vermittelt grundlegende Kenntnisse und Fähigkeiten\, die für die Spurensuche in der digitalen Welt unerlässlich sind. Teilnehmerinnen lernen die Grundlagen der digitalen Forensik kennen\, einschließlich der Methoden zur Identifizierung\, Sicherung und Analyse digitaler Beweise. Das Training bietet eine Einführung in die wichtigsten Konzepte und Techniken\, die zur Untersuchung von Cyberkriminalität eingesetzt werden\, wie z. B. die Analyse von Festplatten\, Netzwerken und mobilen Geräten. Abgerundet wird das Training durch praxisorientierte Übungen\, in denen die Teilnehmer das Erlernte in realitätsnahen Szenarien anwenden können\, um so ihre Fähigkeiten in der digitalen Spurensuche zu vertiefen.\n \n  \nTrainerInnen: Andra Mertl (Mondi Group); Nina Azimikhah (Mandiant\, Part of Google Cloud)\nSprache: Deutsch\nLokation: Mondi Group\nAnmeldung: DIESES EVENT IST LEIDER BEREITS VOLL\, trete unserer Discord community bei\, um zu zukünftigen Events aktuell zu bleiben\nDiscord Community: https://discord.gg/bwx6N8jKSS \n\nAchtung – Dieses Training findet nur vor Ort statt und ist mit 30 Plätzen beschränkt
URL:https://verbotengut.at/event/hackerinnen-training-forensic-basics-english/
LOCATION:Mondi Group\, Marxergasse 4A\, Vienna\, 1030
CATEGORIES:Hackerinnen Training
END:VEVENT
END:VCALENDAR