BEGIN:VCALENDAR
VERSION:2.0
PRODID:-//Cyber Security Austria - ECPv6.15.17.1//NONSGML v1.0//EN
CALSCALE:GREGORIAN
METHOD:PUBLISH
X-ORIGINAL-URL:https://verbotengut.at
X-WR-CALDESC:Veranstaltungen für Cyber Security Austria
REFRESH-INTERVAL;VALUE=DURATION:PT1H
X-Robots-Tag:noindex
X-PUBLISHED-TTL:PT1H
BEGIN:VTIMEZONE
TZID:Europe/Berlin
BEGIN:DAYLIGHT
TZOFFSETFROM:+0100
TZOFFSETTO:+0200
TZNAME:CEST
DTSTART:20230326T010000
END:DAYLIGHT
BEGIN:STANDARD
TZOFFSETFROM:+0200
TZOFFSETTO:+0100
TZNAME:CET
DTSTART:20231029T010000
END:STANDARD
BEGIN:DAYLIGHT
TZOFFSETFROM:+0100
TZOFFSETTO:+0200
TZNAME:CEST
DTSTART:20240331T010000
END:DAYLIGHT
BEGIN:STANDARD
TZOFFSETFROM:+0200
TZOFFSETTO:+0100
TZNAME:CET
DTSTART:20241027T010000
END:STANDARD
BEGIN:DAYLIGHT
TZOFFSETFROM:+0100
TZOFFSETTO:+0200
TZNAME:CEST
DTSTART:20250330T010000
END:DAYLIGHT
BEGIN:STANDARD
TZOFFSETFROM:+0200
TZOFFSETTO:+0100
TZNAME:CET
DTSTART:20251026T010000
END:STANDARD
END:VTIMEZONE
BEGIN:VEVENT
DTSTART;VALUE=DATE:20240918
DTEND;VALUE=DATE:20240919
DTSTAMP:20260422T234738
CREATED:20240819T135010Z
LAST-MODIFIED:20240820T075000Z
UID:2457-1726617600-1726703999@verbotengut.at
SUMMARY:Hackerinnen Training – Let's Hack Together - 2024 Sept
DESCRIPTION:Hier folgen noch nähere Infos. Wir dürfen unter andrem CTF Aufgaben der Austrian Cyber Security Challenge spielen. \nDie Konferenz ist bereits ausgebucht\, wir haben allerdings einen eigenen Anmeldecode bekommen (Plätze sind begrenzt). \nTrainerInnen: Daniel Marth (CSA)\nSprache: Deutsch & Englisch (je nach Bedarf)\nLokation: IKT Sicherheitskonferenz (ACHTUNG\, nur vor Ort!)\nMitzubringen: Laptop\nAnmeldung: TBD\nDiscord Community: https://discord.gg/bwx6N8jKSS
URL:https://verbotengut.at/event/hackerinnen-training-lets-hack-together-2024-sept/
LOCATION:Messe Wien\, Messeplatz 1\, Wien\, 1020
CATEGORIES:Hackerinnen Training
END:VEVENT
END:VCALENDAR