BEGIN:VCALENDAR
VERSION:2.0
PRODID:-//Cyber Security Austria - ECPv6.15.17.1//NONSGML v1.0//EN
CALSCALE:GREGORIAN
METHOD:PUBLISH
X-WR-CALNAME:Cyber Security Austria
X-ORIGINAL-URL:https://verbotengut.at
X-WR-CALDESC:Veranstaltungen für Cyber Security Austria
REFRESH-INTERVAL;VALUE=DURATION:PT1H
X-Robots-Tag:noindex
X-PUBLISHED-TTL:PT1H
BEGIN:VTIMEZONE
TZID:Europe/Berlin
BEGIN:DAYLIGHT
TZOFFSETFROM:+0100
TZOFFSETTO:+0200
TZNAME:CEST
DTSTART:20230326T010000
END:DAYLIGHT
BEGIN:STANDARD
TZOFFSETFROM:+0200
TZOFFSETTO:+0100
TZNAME:CET
DTSTART:20231029T010000
END:STANDARD
BEGIN:DAYLIGHT
TZOFFSETFROM:+0100
TZOFFSETTO:+0200
TZNAME:CEST
DTSTART:20240331T010000
END:DAYLIGHT
BEGIN:STANDARD
TZOFFSETFROM:+0200
TZOFFSETTO:+0100
TZNAME:CET
DTSTART:20241027T010000
END:STANDARD
BEGIN:DAYLIGHT
TZOFFSETFROM:+0100
TZOFFSETTO:+0200
TZNAME:CEST
DTSTART:20250330T010000
END:DAYLIGHT
BEGIN:STANDARD
TZOFFSETFROM:+0200
TZOFFSETTO:+0100
TZNAME:CET
DTSTART:20251026T010000
END:STANDARD
END:VTIMEZONE
BEGIN:VEVENT
DTSTART;TZID=Europe/Berlin:20241219T180000
DTEND;TZID=Europe/Berlin:20241219T210000
DTSTAMP:20260422T200953
CREATED:20241025T083108Z
LAST-MODIFIED:20241121T155239Z
UID:2654-1734631200-1734642000@verbotengut.at
SUMMARY:Shecurity Training - Pentesting 101 - Deutsch
DESCRIPTION:Pentesting ist die Ansammlung an verschiedensten offensiven Cybersecurity Fähigkeiten\, sowie organisatorischer und technischer Beratung. In diesem Training spielen wir den gesamten Pentesting Prozess durch\, um Interessierten einen Einblick in das Thema zu geben. \nThemen: \n\nKundenkommunikation und Scoping\nTest einer kleine Website auf Schwachstellen\nFür Kunden direkt umsetzbare Berichte verfassen\n(optional) Abschlusspräsentation einzelner Findings\n\nBitte Laptop mitbringen! \nTrainer: Manuel Reinsperger (CSA CyberSecurityAustria)\nSprache: Deutsch\nAnmeldung: https://forms.gle/tzHjM3NsBp8ueN7R9\nDiscord Community: https://discord.gg/bwx6N8jKSS \n 
URL:https://verbotengut.at/event/shecurity-training-pentesting-101/
LOCATION:SBA Research\, Floragasse 7\, Wien\, 1070
CATEGORIES:Hackerinnen Training
END:VEVENT
END:VCALENDAR