BEGIN:VCALENDAR
VERSION:2.0
PRODID:-//Cyber Security Austria - ECPv6.15.17.1//NONSGML v1.0//EN
CALSCALE:GREGORIAN
METHOD:PUBLISH
X-WR-CALNAME:Cyber Security Austria
X-ORIGINAL-URL:https://verbotengut.at
X-WR-CALDESC:Veranstaltungen für Cyber Security Austria
REFRESH-INTERVAL;VALUE=DURATION:PT1H
X-Robots-Tag:noindex
X-PUBLISHED-TTL:PT1H
BEGIN:VTIMEZONE
TZID:Europe/Berlin
BEGIN:DAYLIGHT
TZOFFSETFROM:+0100
TZOFFSETTO:+0200
TZNAME:CEST
DTSTART:20240331T010000
END:DAYLIGHT
BEGIN:STANDARD
TZOFFSETFROM:+0200
TZOFFSETTO:+0100
TZNAME:CET
DTSTART:20241027T010000
END:STANDARD
BEGIN:DAYLIGHT
TZOFFSETFROM:+0100
TZOFFSETTO:+0200
TZNAME:CEST
DTSTART:20250330T010000
END:DAYLIGHT
BEGIN:STANDARD
TZOFFSETFROM:+0200
TZOFFSETTO:+0100
TZNAME:CET
DTSTART:20251026T010000
END:STANDARD
BEGIN:DAYLIGHT
TZOFFSETFROM:+0100
TZOFFSETTO:+0200
TZNAME:CEST
DTSTART:20260329T010000
END:DAYLIGHT
BEGIN:STANDARD
TZOFFSETFROM:+0200
TZOFFSETTO:+0100
TZNAME:CET
DTSTART:20261025T010000
END:STANDARD
END:VTIMEZONE
BEGIN:VEVENT
DTSTART;TZID=Europe/Berlin:20250512T180000
DTEND;TZID=Europe/Berlin:20250512T210000
DTSTAMP:20260422T131557
CREATED:20250422T103846Z
LAST-MODIFIED:20250423T091536Z
UID:2776-1747072800-1747083600@verbotengut.at
SUMMARY:Hackerinnen Training - OSINT Teil 2 #  DEUTSCH
DESCRIPTION:Die SCP Foundation hat einen schwerwiegenden Datenleak erlitten: Ein unbekannter Spion hat geheime Dokumente über mehrere hochgefährliche Anomalien gestohlen. Ein Elite-Eindämmungsstandort wurde kompromittiert\, als ein Undercover-Agent – getarnt als Techniker – eine Sicherheitslücke im Überwachungssystem ausnutzte\, um sich Zugang zu gesperrten Bereichen zu verschaffen. Mit einer gefälschten Hochsicherheitsfreigabe navigierte der Eindringling zur Serverzentrale\, lud schnell klassifizierte Eindämmungsdaten herunter und löschte sämtliche Spuren seines Zugriffs. Um seine Flucht zu sichern\, setzte er eine subtile chemische Verbindung frei\, die bei den Wachen leichte Gedächtnislücken verursachte. Als das Sicherheitssystem sich wieder stabilisierte\, war der Agent bereits spurlos verschwunden. Jetzt liegt es an uns\, die Spur aufzunehmen und zu verhindern\, dass die gestohlenen Informationen in die falschen Hände geraten. \nGemeinsam lösen wir diesmal das original Kase Scenario SCP:INSURGENCY https://www.kasescenarios.com/scp-insurgency \nACHTUNG: Am Ende dieses Trainings bekommt man ein Zertifikat von KASE. Daher kostet das Training 20$ und ist zahlbar mit Kreditkarte oder PayPal. Wir arbeiten daran einen Gruppenrabatt zu bekommen. \nIntro – What is Kase Scenarios?\nhttps://www.youtube.com/watch?v=In6AXti5vtk \n  \nTrainerin: Angela Stach\, HTL Spengergasse\nSprache: Deutsch\nLokation: SBA Research & online\nAnmeldung: https://forms.gle/XsjwPHoiQyaoqQtn8\nDiscord Community: https://discord.gg/bwx6N8jKSS
URL:https://verbotengut.at/event/hackerinnen-training-osint-teil-2-deutsch/
LOCATION:SBA Research\, Floragasse 7\, Wien\, 1070
CATEGORIES:Hackerinnen Training
ATTACH;FMTTYPE=image/png:https://verbotengut.at/wp-content/uploads/2025/04/12FMai25-OSINT-II-e1745399732449.png
END:VEVENT
END:VCALENDAR