BEGIN:VCALENDAR
VERSION:2.0
PRODID:-//Cyber Security Austria - ECPv6.15.17.1//NONSGML v1.0//EN
CALSCALE:GREGORIAN
METHOD:PUBLISH
X-ORIGINAL-URL:https://verbotengut.at
X-WR-CALDESC:Veranstaltungen für Cyber Security Austria
REFRESH-INTERVAL;VALUE=DURATION:PT1H
X-Robots-Tag:noindex
X-PUBLISHED-TTL:PT1H
BEGIN:VTIMEZONE
TZID:Europe/Berlin
BEGIN:DAYLIGHT
TZOFFSETFROM:+0100
TZOFFSETTO:+0200
TZNAME:CEST
DTSTART:20240331T010000
END:DAYLIGHT
BEGIN:STANDARD
TZOFFSETFROM:+0200
TZOFFSETTO:+0100
TZNAME:CET
DTSTART:20241027T010000
END:STANDARD
BEGIN:DAYLIGHT
TZOFFSETFROM:+0100
TZOFFSETTO:+0200
TZNAME:CEST
DTSTART:20250330T010000
END:DAYLIGHT
BEGIN:STANDARD
TZOFFSETFROM:+0200
TZOFFSETTO:+0100
TZNAME:CET
DTSTART:20251026T010000
END:STANDARD
BEGIN:DAYLIGHT
TZOFFSETFROM:+0100
TZOFFSETTO:+0200
TZNAME:CEST
DTSTART:20260329T010000
END:DAYLIGHT
BEGIN:STANDARD
TZOFFSETFROM:+0200
TZOFFSETTO:+0100
TZNAME:CET
DTSTART:20261025T010000
END:STANDARD
END:VTIMEZONE
BEGIN:VEVENT
DTSTART;TZID=Europe/Berlin:20251217T180000
DTEND;TZID=Europe/Berlin:20251217T210000
DTSTAMP:20260422T035844
CREATED:20251112T134832Z
LAST-MODIFIED:20251112T135026Z
UID:3055-1765994400-1766005200@verbotengut.at
SUMMARY:Hackerinnen Training – Christmas Let's Hack Together - 2025 December
DESCRIPTION:Wolltest du immer schon einmal Security-Challenges lösen\, oder bei einem CTF mitmachen? Dann mach den ersten Schritt und schau bei unserem ersten „Let’s Hack Together“ vorbei! \nWenn du schon einmal bei einem Let’s Hack Together dabei warst oder schon erste CTF Erfahrung geschnuppert hast bist du natürlich auch willkommen! \nWir werden gemeinsam (bzw in Kleingruppen) ausgewählte Challenges lösen und besprechen. Es werden auch Tips und Tricks gezeigt\, und wenn du wo nicht weiterkommst dann gibt’s auch gerne Unterstützung! \nInhalte \n\nHerangehensweise an CTF Challenges\nGemeinsames Lösen von ausgewählten Challenges\nTools\, Tips & Tricks\n\nTrainerInnen: Manuel Reinsperger (CyberSecurityAustria)\nSprache: Deutsch & Englisch (je nach Bedarf)\nLokation: SBA Research (ACHTUNG\, nur vor Ort!)\nMitzubringen: Laptop\nAnmeldung: https://forms.gle/afko1jpptasRKzc19\nDiscord Community: https://discord.gg/bwx6N8jKSS
URL:https://verbotengut.at/event/hackerinnen-training-christmas-lets-hack-together-2025-december/
LOCATION:SBA Research\, Floragasse 7\, Wien\, 1070
CATEGORIES:Hackerinnen Training
END:VEVENT
END:VCALENDAR