BEGIN:VCALENDAR
VERSION:2.0
PRODID:-//Cyber Security Austria - ECPv6.15.17.1//NONSGML v1.0//EN
CALSCALE:GREGORIAN
METHOD:PUBLISH
X-WR-CALNAME:Cyber Security Austria
X-ORIGINAL-URL:https://verbotengut.at
X-WR-CALDESC:Veranstaltungen für Cyber Security Austria
REFRESH-INTERVAL;VALUE=DURATION:PT1H
X-Robots-Tag:noindex
X-PUBLISHED-TTL:PT1H
BEGIN:VTIMEZONE
TZID:Europe/Berlin
BEGIN:DAYLIGHT
TZOFFSETFROM:+0100
TZOFFSETTO:+0200
TZNAME:CEST
DTSTART:20230326T010000
END:DAYLIGHT
BEGIN:STANDARD
TZOFFSETFROM:+0200
TZOFFSETTO:+0100
TZNAME:CET
DTSTART:20231029T010000
END:STANDARD
BEGIN:DAYLIGHT
TZOFFSETFROM:+0100
TZOFFSETTO:+0200
TZNAME:CEST
DTSTART:20240331T010000
END:DAYLIGHT
BEGIN:STANDARD
TZOFFSETFROM:+0200
TZOFFSETTO:+0100
TZNAME:CET
DTSTART:20241027T010000
END:STANDARD
BEGIN:DAYLIGHT
TZOFFSETFROM:+0100
TZOFFSETTO:+0200
TZNAME:CEST
DTSTART:20250330T010000
END:DAYLIGHT
BEGIN:STANDARD
TZOFFSETFROM:+0200
TZOFFSETTO:+0100
TZNAME:CET
DTSTART:20251026T010000
END:STANDARD
END:VTIMEZONE
BEGIN:VEVENT
DTSTART;TZID=Europe/Berlin:20240123T180000
DTEND;TZID=Europe/Berlin:20240123T210000
DTSTAMP:20260423T093020
CREATED:20240108T155459Z
LAST-MODIFIED:20240214T065647Z
UID:2029-1706032800-1706043600@verbotengut.at
SUMMARY:Hackerinnen Training - Linux Basics # DEUTSCH
DESCRIPTION:Bei nachezu jedem CTF oder auch ACSC Challenge braucht man Linux Kommandos um die Aufgaben lösen zu können. In diesem Training lernen und wiederholen wir die Linux Shell Basics und Tricks. \nInhalte \n\nGrundlagen des Linux-Betriebssystems\nWas ist eine Shell und wie unterscheiden sie sich von den gängigen Betriebssystemen?\nPraktische Produktivitätstipps\nÜben anhand eines Spiels\n\nTrainerin: Constanze Rödig\, TU Wien\nSprache: Deutsch\nLokation: TU Wien & online\nAnmeldung: https://forms.gle/f61s4TYa7qVuzEFS9\nDiscord Community: https://discord.gg/bwx6N8jKSS
URL:https://verbotengut.at/event/hackerinnen-training-linux-basics-deutsch/
LOCATION:TU Wien – FAV Hörsaal 2\, Favoritenstraße 9-11\, Wien\, 1040\, Österreich
CATEGORIES:Hackerinnen Training
END:VEVENT
END:VCALENDAR