BEGIN:VCALENDAR
VERSION:2.0
PRODID:-//Cyber Security Austria - ECPv6.15.17.1//NONSGML v1.0//EN
CALSCALE:GREGORIAN
METHOD:PUBLISH
X-ORIGINAL-URL:https://verbotengut.at
X-WR-CALDESC:Veranstaltungen für Cyber Security Austria
REFRESH-INTERVAL;VALUE=DURATION:PT1H
X-Robots-Tag:noindex
X-PUBLISHED-TTL:PT1H
BEGIN:VTIMEZONE
TZID:Europe/Berlin
BEGIN:DAYLIGHT
TZOFFSETFROM:+0100
TZOFFSETTO:+0200
TZNAME:CEST
DTSTART:20230326T010000
END:DAYLIGHT
BEGIN:STANDARD
TZOFFSETFROM:+0200
TZOFFSETTO:+0100
TZNAME:CET
DTSTART:20231029T010000
END:STANDARD
BEGIN:DAYLIGHT
TZOFFSETFROM:+0100
TZOFFSETTO:+0200
TZNAME:CEST
DTSTART:20240331T010000
END:DAYLIGHT
BEGIN:STANDARD
TZOFFSETFROM:+0200
TZOFFSETTO:+0100
TZNAME:CET
DTSTART:20241027T010000
END:STANDARD
BEGIN:DAYLIGHT
TZOFFSETFROM:+0100
TZOFFSETTO:+0200
TZNAME:CEST
DTSTART:20250330T010000
END:DAYLIGHT
BEGIN:STANDARD
TZOFFSETFROM:+0200
TZOFFSETTO:+0100
TZNAME:CET
DTSTART:20251026T010000
END:STANDARD
END:VTIMEZONE
BEGIN:VEVENT
DTSTART;TZID=Europe/Berlin:20240409T180000
DTEND;TZID=Europe/Berlin:20240409T210000
DTSTAMP:20260423T051623
CREATED:20240314T102554Z
LAST-MODIFIED:20240408T100832Z
UID:2296-1712685600-1712696400@verbotengut.at
SUMMARY:Hackerinnen Training - Binary Exploitation # DEUTSCH
DESCRIPTION:In maschinennahen Sprachen wie C kann es bei unsicherer Programmierung schnell zu Problemen mit Speicherzugriffen kommen\, die sehr weitreichende Konsequenzen haben. Um diese kennenzulernen\, zu sehen\, was man als Angreiferin damit machen kann\, und wie man sich davor schützen kann\, bringen wir euch die Binary Exploitation Basics. \nInhalte \nWir starten mit eine kleinen Wiederholung von C\, gefolgt von Buffer Overflow\, Memory Corruption & Memory Management und Binary Exploitation. \nTrainerin: Daniel Marth & Clemens Hlauschek (RISE)\nSprache: Deutsch\nLokation: Wiedner Hauptstraße 68\, 1. Stock & online\nAnmeldung: https://forms.gle/yaVzamMmEJzdPVaL8\nDiscord Community: https://discord.gg/bwx6N8jKSS
URL:https://verbotengut.at/event/hackerinnen-training-binary-exploitation-deutsch/
LOCATION:Wiedner Hauptstraße 68\, Wiedner Hauptstraße 68\, Wien\, 1040
CATEGORIES:Hackerinnen Training
END:VEVENT
BEGIN:VEVENT
DTSTART;TZID=Europe/Berlin:20240424T180000
DTEND;TZID=Europe/Berlin:20240424T210000
DTSTAMP:20260423T051623
CREATED:20240214T065148Z
LAST-MODIFIED:20240612T080310Z
UID:2179-1713981600-1713992400@verbotengut.at
SUMMARY:Hackerinnen Training - Crypto Basics #  DEUTSCH
DESCRIPTION:Trainer: Martin Schmiedecker\, Bosch Engineering\nSprache: Deutsch\nLokation: TBA & online\nAnmeldung: https://forms.gle/sxvJBkTxMLh9nRJg7\nDiscord Community: https://discord.gg/bwx6N8jKSS
URL:https://verbotengut.at/event/hackerinnen-training-crypto-basics/
CATEGORIES:Hackerinnen Training
ATTACH;FMTTYPE=image/png:https://verbotengut.at/wp-content/uploads/2024/02/IMG_6076.png
END:VEVENT
END:VCALENDAR