BEGIN:VCALENDAR
VERSION:2.0
PRODID:-//Cyber Security Austria - ECPv6.15.17.1//NONSGML v1.0//EN
CALSCALE:GREGORIAN
METHOD:PUBLISH
X-WR-CALNAME:Cyber Security Austria
X-ORIGINAL-URL:https://verbotengut.at
X-WR-CALDESC:Veranstaltungen für Cyber Security Austria
REFRESH-INTERVAL;VALUE=DURATION:PT1H
X-Robots-Tag:noindex
X-PUBLISHED-TTL:PT1H
BEGIN:VTIMEZONE
TZID:Europe/Berlin
BEGIN:DAYLIGHT
TZOFFSETFROM:+0100
TZOFFSETTO:+0200
TZNAME:CEST
DTSTART:20230326T010000
END:DAYLIGHT
BEGIN:STANDARD
TZOFFSETFROM:+0200
TZOFFSETTO:+0100
TZNAME:CET
DTSTART:20231029T010000
END:STANDARD
BEGIN:DAYLIGHT
TZOFFSETFROM:+0100
TZOFFSETTO:+0200
TZNAME:CEST
DTSTART:20240331T010000
END:DAYLIGHT
BEGIN:STANDARD
TZOFFSETFROM:+0200
TZOFFSETTO:+0100
TZNAME:CET
DTSTART:20241027T010000
END:STANDARD
BEGIN:DAYLIGHT
TZOFFSETFROM:+0100
TZOFFSETTO:+0200
TZNAME:CEST
DTSTART:20250330T010000
END:DAYLIGHT
BEGIN:STANDARD
TZOFFSETFROM:+0200
TZOFFSETTO:+0100
TZNAME:CET
DTSTART:20251026T010000
END:STANDARD
END:VTIMEZONE
BEGIN:VEVENT
DTSTART;TZID=Europe/Berlin:20241001T134500
DTEND;TZID=Europe/Berlin:20241001T170000
DTSTAMP:20260422T210736
CREATED:20241001T145555Z
LAST-MODIFIED:20241001T145734Z
UID:2591-1727790300-1727802000@verbotengut.at
SUMMARY:Shecurity – Social – Ausflug ORF Küniglberg # DEUTSCH
DESCRIPTION:Start: 14:00 Uhr\nTreffpunkt: 13:45 Uhr\nVerfügbare Plätze: 20 Personen\nAnmeldung: https://docs.google.com/forms/d/e/1FAIpQLSccpy47vU5noLBNmuzZZWC4Fpuz-G4c_z7kjFa6KLqfQRumWQ/viewform?usp=sf_link\nDiscord Community: https://discord.gg/bwx6N8jKSS \nNeben einer Führung\, bekommen wir einen Einblick in das Thema Fake News und wie die Journalist:innen in ihrem Arbeitsalltag damit umgehen. Weiters sind Gespräche mit bekannten Moderator:innen eingeplant.
URL:https://verbotengut.at/event/hackerinnen-social-ausflug-orf-kueniglberg/
LOCATION:ORF Küniglberg\, Hugo-Portisch-Gasse 1\, Wien\, 1130
CATEGORIES:Hackerinnen Training
END:VEVENT
BEGIN:VEVENT
DTSTART;TZID=Europe/Berlin:20241021T180000
DTEND;TZID=Europe/Berlin:20241021T210000
DTSTAMP:20260422T210736
CREATED:20240819T135519Z
LAST-MODIFIED:20240820T074535Z
UID:2467-1729533600-1729544400@verbotengut.at
SUMMARY:Hackerinnen Training – Wireshark  # DEUTSCH
DESCRIPTION:Gemeinsam beschäftigen wir uns mit dem Tool Wireshark\, mit dem sich Datenverkehr mitlesen und analysieren lässt. Wireshark ist in der Lage\, Datenverkehr auf unterschiedlichen Schnittstellen wie Ethernet-\, USB- oder WLAN-Schnittstellen mitzulesen\, die Daten aufzuzeichnen und sie zu analysieren. \nWichtige Einsatzbereiche sind das Netzwerk-Monitoring\, die Fehlersuche und Fehleranalyse\, die Protokoll-Analyse und die IT-Sicherheitsüberwachung. Auch bei Hackern ist das Programm ein beliebtes Tool. \nThemen\n \n\nEinführung in die Skriptsprache Lua und die Lua-API in Wireshark\nSchreiben eigener Protokoll-Dissektoren für Protokoll-Reverse-Engineering\, Unterstützung ungewöhnlicher Protokolle\, etc.\nErstellen Sie Listener\, um Ereignisse auf der Grundlage von Verkehrsmustern auszulösen.\n\nTrainer: Sebastian Schrittwieser (Universität Wien)\nLanguage: Deutsch\nLocation: SBA Research (Vor Ort und Online)\nRegistration: https://forms.gle/fVBX3zRJp9xDkkJDA\nDiscord Community: https://discord.gg/bwx6N8jKSS
URL:https://verbotengut.at/event/hackerinnen-training-wireshark-deutsch/
LOCATION:SBA Research\, Floragasse 7\, Wien\, 1070
CATEGORIES:Hackerinnen Training
END:VEVENT
END:VCALENDAR