BEGIN:VCALENDAR
VERSION:2.0
PRODID:-//Cyber Security Austria - ECPv6.15.17.1//NONSGML v1.0//EN
CALSCALE:GREGORIAN
METHOD:PUBLISH
X-WR-CALNAME:Cyber Security Austria
X-ORIGINAL-URL:https://verbotengut.at
X-WR-CALDESC:Veranstaltungen für Cyber Security Austria
REFRESH-INTERVAL;VALUE=DURATION:PT1H
X-Robots-Tag:noindex
X-PUBLISHED-TTL:PT1H
BEGIN:VTIMEZONE
TZID:Europe/Berlin
BEGIN:DAYLIGHT
TZOFFSETFROM:+0100
TZOFFSETTO:+0200
TZNAME:CEST
DTSTART:20250330T010000
END:DAYLIGHT
BEGIN:STANDARD
TZOFFSETFROM:+0200
TZOFFSETTO:+0100
TZNAME:CET
DTSTART:20251026T010000
END:STANDARD
BEGIN:DAYLIGHT
TZOFFSETFROM:+0100
TZOFFSETTO:+0200
TZNAME:CEST
DTSTART:20260329T010000
END:DAYLIGHT
BEGIN:STANDARD
TZOFFSETFROM:+0200
TZOFFSETTO:+0100
TZNAME:CET
DTSTART:20261025T010000
END:STANDARD
BEGIN:DAYLIGHT
TZOFFSETFROM:+0100
TZOFFSETTO:+0200
TZNAME:CEST
DTSTART:20270328T010000
END:DAYLIGHT
BEGIN:STANDARD
TZOFFSETFROM:+0200
TZOFFSETTO:+0100
TZNAME:CET
DTSTART:20271031T010000
END:STANDARD
END:VTIMEZONE
BEGIN:VEVENT
DTSTART;TZID=Europe/Berlin:20260219T180000
DTEND;TZID=Europe/Berlin:20260219T210000
DTSTAMP:20260421T234230
CREATED:20260208T225638Z
LAST-MODIFIED:20260208T225638Z
UID:3082-1771524000-1771534800@verbotengut.at
SUMMARY:Hackerinnen Training - Mobile Security #  DEUTSCH
DESCRIPTION:In diesem Workshop lernst du\, wie man Android- und iOS-Apps zur Laufzeit untersucht und manipuliert – ohne den Quellcode zu kennen. Mit Frida instrumentieren wir Apps “live”\, hängen uns in relevante Methoden ein (z. B. Crypto\, Auth\, Netzwerk)\, beobachten Datenflüsse und umgehen typische Schutzmechanismen wie Root-/Jailbreak-Checks\, Certificate Pinning oder Debug-Erkennung. \nZiel ist ein praxisnaher Einstieg in Mobile App Pentesting / Reverse Engineering mit Fokus auf reproduzierbare Setups und sinnvolle Workflows. \n  \nTrainer: Marcel Schnideritsch\, CANCOM und CSA\nSprache: Deutsch\nLokation: SBA Research\, Floragasse 7\, 1040 Wien & online\nAnmeldung: https://forms.gle/grBJBmYv5gDQ682P7\nDiscord Community: https://discord.gg/bwx6N8jKSS
URL:https://verbotengut.at/event/hackerinnen-training-mobile-security-deutsch/
LOCATION:SBA Research\, Floragasse 7\, Wien\, 1070
CATEGORIES:Hackerinnen Training
END:VEVENT
END:VCALENDAR